BEGIN:VCALENDAR
VERSION:2.0
PRODID:-//Michelle Thielen - ECPv6.15.20//NONSGML v1.0//EN
CALSCALE:GREGORIAN
METHOD:PUBLISH
X-ORIGINAL-URL:https://michellethielen.com
X-WR-CALDESC:Events for Michelle Thielen
REFRESH-INTERVAL;VALUE=DURATION:PT1H
X-Robots-Tag:noindex
X-PUBLISHED-TTL:PT1H
BEGIN:VTIMEZONE
TZID:UTC
BEGIN:STANDARD
TZOFFSETFROM:+0000
TZOFFSETTO:+0000
TZNAME:UTC
DTSTART:20210101T000000
END:STANDARD
END:VTIMEZONE
BEGIN:VEVENT
DTSTART;TZID=UTC:20220923T080000
DTEND;TZID=UTC:20220927T170000
DTSTAMP:20260422T134300
CREATED:20220701T155829Z
LAST-MODIFIED:20220701T155829Z
UID:1007-1663920000-1664298000@michellethielen.com
SUMMARY:200 YTT St. Petersburg
DESCRIPTION:
URL:https://michellethielen.com/event/200-ytt-st-petersburg/
LOCATION:GA
ATTACH;FMTTYPE=image/png:https://michellethielen.com/wp-content/uploads/2022/07/st-petes-554-×-368-px.png
END:VEVENT
END:VCALENDAR