BEGIN:VCALENDAR
VERSION:2.0
PRODID:-//Michelle Thielen - ECPv6.15.20//NONSGML v1.0//EN
CALSCALE:GREGORIAN
METHOD:PUBLISH
X-WR-CALNAME:Michelle Thielen
X-ORIGINAL-URL:https://michellethielen.com
X-WR-CALDESC:Events for Michelle Thielen
REFRESH-INTERVAL;VALUE=DURATION:PT1H
X-Robots-Tag:noindex
X-PUBLISHED-TTL:PT1H
BEGIN:VTIMEZONE
TZID:UTC
BEGIN:STANDARD
TZOFFSETFROM:+0000
TZOFFSETTO:+0000
TZNAME:UTC
DTSTART:20230101T000000
END:STANDARD
END:VTIMEZONE
BEGIN:VEVENT
DTSTART;TZID=UTC:20241014T060000
DTEND;TZID=UTC:20241014T203000
DTSTAMP:20260422T104505
CREATED:20240910T223844Z
LAST-MODIFIED:20240910T223953Z
UID:1237-1728885600-1728937800@michellethielen.com
SUMMARY:Soundoff Experience
DESCRIPTION:All are welcome!\nWhether you’re a yoga teacher\, practitioner\, a student\, looking for community\, or just like to have a {really} good time\, join founder of YogaFaith Michelle Thielen and her good friend Dj Taz for an open-to-the-public portion of YogaFaith’s Miracle Immersion in St. Petersburg\, Florida.\nThese two kids have collaborated numerous times for a wildly successful and lighthearted created space. You’ll learn\, play\, soundoff and close in meditation. \nThey can’t wait to see you! \n \n\nCECs\n3.5 Continued Education Credits: YogaFaith\, Yoga Alliance\, BeYogi\, etc. \nThis was such an awesome experience I attended in Chicago and loved every minute! 2019 Chicago Attendee \nPLEASE DO THIS MORE OFTEN! I’d fly again to do this! 2021 Florida Attendee \n\nWorkshop\nMon. Oct. 14\, 2024: 4-6pm EST\nYoga Music Workshop: My Best Playlist- Yoga Music Workshop \nJoin DJ Taz Rashid for a workshop on how to build a yoga music playlist. Learn how to breakdown your classes in a simple way\, and easily build your favorite music into any practice whether it’s a high intensity vinyasa\, or a mellow yin\, restorative class or to your personalized yoga style. DJ Taz will show you how to hone your instinctive listening and intuitive teaching skills to “mix beats” and make smooth transitions throughout your classes. \nTaking the time to focus on developing the role of music in your yoga classes allows you to feel more confident about how music is enhancing your teaching\, while you can expand and use your music library more efficiently. Any teacher can build her unique sound with compelling music that enhances the practice\, inevitably attracting a larger student following.  Highly recommended for teachers but anyone can attend. \n  \nSoundOff\nMon. Oct. 14\, 2024: 7-8:30 pm EST YogaFaith SoundOff \nWhat is SoundOff? The teacher has a microphone headset and instructs through the mic; and DJ Taz plays music. Both Michelle and Taz’s music are sent to all the headphones/participants perfectly mixed for an epic sonic experience. With Michelle and YogaFaith\, you’re going to get a whole lot of Jesus\, playtime\, some dancing\, lots of laughs and always an awesome closing mediation!\nSee an example here. \n  \nInformation Page
URL:https://michellethielen.com/event/soundoff-experience/
LOCATION:Oakhurst United Methodist Church 13400 Park Blvd. Seminole\, FL 33776\, 13400 Park Blvd.\, Seminole\, FL\, 33776
ATTACH;FMTTYPE=image/png:https://michellethielen.com/wp-content/uploads/2024/09/Petersburg-Oct-14-2024-DJ-Taz-and-YogaFaith-Michelle-Thielen.png
END:VEVENT
END:VCALENDAR