BEGIN:VCALENDAR
VERSION:2.0
PRODID:-//Michelle Thielen - ECPv6.15.20//NONSGML v1.0//EN
CALSCALE:GREGORIAN
METHOD:PUBLISH
X-ORIGINAL-URL:https://michellethielen.com
X-WR-CALDESC:Events for Michelle Thielen
REFRESH-INTERVAL;VALUE=DURATION:PT1H
X-Robots-Tag:noindex
X-PUBLISHED-TTL:PT1H
BEGIN:VTIMEZONE
TZID:UTC
BEGIN:STANDARD
TZOFFSETFROM:+0000
TZOFFSETTO:+0000
TZNAME:UTC
DTSTART:20230101T000000
END:STANDARD
END:VTIMEZONE
BEGIN:VEVENT
DTSTART;TZID=UTC:20240219T120000
DTEND;TZID=UTC:20240219T133000
DTSTAMP:20260422T170019
CREATED:20240723T234749Z
LAST-MODIFIED:20240723T234749Z
UID:1182-1708344000-1708349400@michellethielen.com
SUMMARY:Michelle Thielen hosts Jan Winhall
DESCRIPTION:Recording Available \nJan Winhall Revolutionizing Trauma and Addiction Treatment with Felt Sense Polyvagal Model\n\n\n\n\nSuggested Price: $49.00 \n\n\n\n\nYou may be reading this because you are curious about fresh ways of  understanding trauma and addiction. There is in fact a better way to understand trauma and addiction. A way that honors the wisdom of the body while integrating the latest findings in neuroscience. A way that creates a new social movement of liberation away from being shamed and pathologized just for responding in ways that have not been appropriately understood. A way where we can respectfully understand addiction and treat trauma responses with deep embodied listening. \n\nWhat: Michelle Thielen\, C-IAYT\, welcomes Jan Winhall\, M.S.W. F.O.T.\, Author of Treating Trauma & Addiction with the Felt Sense Polyvagal Model.\nWhen: Anytime.\n\nThis 90 minute training recording is open to anyone with or without experience who desires to learn more about trauma in the brain\, body and spirit as well as the felt sense polyvagal model\, with a focus on treatment towards addiction.\nThis is one of our donation-based continued education events.\nYou’ll receive the many resources that Jan speaks about in her presentation\n\nIncluding the complete slide show and\nDr. Stephen Porges and Jan Winhall article from presentation\nAnd more ~\n\n\nThis material will be referred to and enjoyed for many years.\nRecording link is on your receipt and you’ll soon receive an email with the many resources\n\nBecause of the instant access there are no refunds
URL:https://michellethielen.com/event/michelle-thielen-hosts-jan-winhall/
ATTACH;FMTTYPE=image/webp:https://michellethielen.com/wp-content/uploads/2024/07/j.webp
END:VEVENT
END:VCALENDAR