BEGIN:VCALENDAR
VERSION:2.0
PRODID:-//Michelle Thielen - ECPv6.15.20//NONSGML v1.0//EN
CALSCALE:GREGORIAN
METHOD:PUBLISH
X-WR-CALNAME:Michelle Thielen
X-ORIGINAL-URL:https://michellethielen.com
X-WR-CALDESC:Events for Michelle Thielen
REFRESH-INTERVAL;VALUE=DURATION:PT1H
X-Robots-Tag:noindex
X-PUBLISHED-TTL:PT1H
BEGIN:VTIMEZONE
TZID:UTC
BEGIN:STANDARD
TZOFFSETFROM:+0000
TZOFFSETTO:+0000
TZNAME:UTC
DTSTART:20250101T000000
END:STANDARD
END:VTIMEZONE
BEGIN:VEVENT
DTSTART;TZID=UTC:20260724T080000
DTEND;TZID=UTC:20260728T170000
DTSTAMP:20260420T165304
CREATED:20251004T193346Z
LAST-MODIFIED:20251004T193346Z
UID:1700-1784880000-1785258000@michellethielen.com
SUMMARY:YogaFaith Masters 500 hour Miracle Immersion Seattle
DESCRIPTION:The YogaFaith 300/500 Hour Master Miracle Immersion is the most beautiful experience in the Christian Yoga Industry. This training focuses on Specialty Populations\, Trauma-Sensitive\, Yin and Yoga Therapy. \nChrist Centered Leadership and Discipleship are woven into the fabric of this training which will prepare you for business and ministry on every level. This is a dual certification\, R-YFMT 500 hour and Level 1 of our IAYT Yoga Therapy Diploma. If you’re interested in becoming a Yoga Therapist you’re already 33% there with this certification. \nUpon completion of this program\, you will be a Registered YF Master Trainer (R-YFMT 500)\, eligible to register with the US and Canadian Yoga Alliances (RYT 500)\, as well as The Christian Yoga Association as a Master Trainer (R-CYAMT). If continuing on to Yoga Therapy\, you’ll also be eligible to register with the International Association of Yoga Therapists (IAYT) as YogaFaith is the only Christian Yoga School accredited with the IAYT.
URL:https://michellethielen.com/event/yogafaith-masters-500-hour-miracle-immersion-seattle/
ATTACH;FMTTYPE=image/webp:https://michellethielen.com/wp-content/uploads/2025/10/altanta-24-group-photo.webp
END:VEVENT
END:VCALENDAR