BEGIN:VCALENDAR
VERSION:2.0
PRODID:-//Michelle Thielen - ECPv6.15.20//NONSGML v1.0//EN
CALSCALE:GREGORIAN
METHOD:PUBLISH
X-ORIGINAL-URL:https://michellethielen.com
X-WR-CALDESC:Events for Michelle Thielen
REFRESH-INTERVAL;VALUE=DURATION:PT1H
X-Robots-Tag:noindex
X-PUBLISHED-TTL:PT1H
BEGIN:VTIMEZONE
TZID:UTC
BEGIN:STANDARD
TZOFFSETFROM:+0000
TZOFFSETTO:+0000
TZNAME:UTC
DTSTART:20230101T000000
END:STANDARD
END:VTIMEZONE
BEGIN:VEVENT
DTSTART;TZID=UTC:20240724T080000
DTEND;TZID=UTC:20240724T170000
DTSTAMP:20260424T092710
CREATED:20240724T002645Z
LAST-MODIFIED:20240724T002645Z
UID:1222-1721808000-1721840400@michellethielen.com
SUMMARY:Soundoff and Music Workshop with Dj Taz and Michelle Thielen
DESCRIPTION:Registration opens August 12th
URL:https://michellethielen.com/event/soundoff-and-music-workshop-with-dj-taz-and-michelle-thielen/
ATTACH;FMTTYPE=image/png:https://michellethielen.com/wp-content/uploads/2024/07/The-Soundoff-Sessions.png
END:VEVENT
END:VCALENDAR