BEGIN:VCALENDAR
VERSION:2.0
PRODID:-//Michelle Thielen - ECPv6.15.20//NONSGML v1.0//EN
CALSCALE:GREGORIAN
METHOD:PUBLISH
X-WR-CALNAME:Michelle Thielen
X-ORIGINAL-URL:https://michellethielen.com
X-WR-CALDESC:Events for Michelle Thielen
REFRESH-INTERVAL;VALUE=DURATION:PT1H
X-Robots-Tag:noindex
X-PUBLISHED-TTL:PT1H
BEGIN:VTIMEZONE
TZID:UTC
BEGIN:STANDARD
TZOFFSETFROM:+0000
TZOFFSETTO:+0000
TZNAME:UTC
DTSTART:20230101T000000
END:STANDARD
END:VTIMEZONE
BEGIN:VEVENT
DTSTART;TZID=UTC:20241002T080000
DTEND;TZID=UTC:20241005T170000
DTSTAMP:20260425T124553
CREATED:20240724T002041Z
LAST-MODIFIED:20240724T002041Z
UID:1215-1727856000-1728147600@michellethielen.com
SUMMARY:Trauma Sensitive Yoga Faith
DESCRIPTION:EVENT DETAILS \n\n\n\nADDRESSPrivate Residential Studio\nMillerstown\, PA 17062\n\n\nDATEOctober 2 – 5\, 2024\n\n\n\n\n\nWe have all experienced forms of trauma of varying degrees. The YogaFaith Trauma Sensitive Training is designed to help people heal from their own trauma and lead others into a place of healing and wholeness through yoga\, movement\, prayer\, meditation and other modalities included in this training. \nThe immersion plus the 2 Trauma Sensitive Modules will earn you a 100 hour TSYF certification\, R-TSYF.
URL:https://michellethielen.com/event/trauma-sensitive-yoga-faith/
ATTACH;FMTTYPE=image/png:https://michellethielen.com/wp-content/uploads/2024/07/2024-TSYF.png
END:VEVENT
END:VCALENDAR