BEGIN:VCALENDAR
VERSION:2.0
PRODID:-//Michelle Thielen - ECPv6.15.20//NONSGML v1.0//EN
CALSCALE:GREGORIAN
METHOD:PUBLISH
X-ORIGINAL-URL:https://michellethielen.com
X-WR-CALDESC:Events for Michelle Thielen
REFRESH-INTERVAL;VALUE=DURATION:PT1H
X-Robots-Tag:noindex
X-PUBLISHED-TTL:PT1H
BEGIN:VTIMEZONE
TZID:UTC
BEGIN:STANDARD
TZOFFSETFROM:+0000
TZOFFSETTO:+0000
TZNAME:UTC
DTSTART:20240101T000000
END:STANDARD
END:VTIMEZONE
BEGIN:VEVENT
DTSTART;TZID=UTC:20251024T080000
DTEND;TZID=UTC:20251028T170000
DTSTAMP:20260420T231904
CREATED:20260313T005403Z
LAST-MODIFIED:20260313T005403Z
UID:1718-1761292800-1761670800@michellethielen.com
SUMMARY:Christian Yoga Faith Teacher Training
DESCRIPTION:Join YOGAFAITH LEAD TRAINERS Michelle Thielen\, Laurie Hugdhal and Sarah Eaton for our final Christian yoga teacher training of the year.
URL:https://michellethielen.com/event/christian-yoga-faith-teacher-training/
LOCATION:Yoga Faith\, Seattle
END:VEVENT
END:VCALENDAR